BEGIN:VCALENDAR
PRODID:-//kirchenweb.ch gmbh//veranstaltungsausgabe v2.0//DE
VERSION:2.0
METHOD:PUBLISH
BEGIN:VEVENT
DTSTART:20260318T170000Z
DTEND:20260318T180000Z
LOCATION:Kirche\, Schlüsselmattweg\, 8840 Einsiedeln
TRANSP:OPAQUE
SEQUENCE:0
UID:4307-veranstaltung@ref-einsiedeln.ch
DTSTAMP:20260317T103311Z
DESCRIPTION:Jeden Mittwoch kommen wir zusammen\, um zu beten\, gemeinsam
  und still jede und jeder für sich\, mit Liedern\, Musik\, kurzen
  Lesungen.\n\nKontakt: bettina.breitenstein@ref-einsiedeln.ch\n\nWeitere
  Infos: https://www.ref-einsiedeln.ch/veranstaltung/4307
SUMMARY:Friedensgebet
PRIORITY:5
X-MICROSOFT-CDO-IMPORTANCE:1
CLASS:PUBLIC
END:VEVENT
END:VCALENDAR
