BEGIN:VCALENDAR
PRODID:-//kirchenweb.ch gmbh//veranstaltungsausgabe v2.0//DE
VERSION:2.0
METHOD:PUBLISH
BEGIN:VEVENT
DTSTART:20260318T170000Z
DTEND:20260318T190000Z
LOCATION:Kirchgemeindehaus\, Schlüsselmattweg\, 8840 Einsiedeln
TRANSP:OPAQUE
SEQUENCE:0
UID:4308-veranstaltung@ref-einsiedeln.ch
DTSTAMP:20260318T170256Z
DESCRIPTION:«Lotto - Eat\, Meet\, Play the Game and Win Prizes!» -
  Lottoabend mit Imbiss\, Musik & coolen Preisen! Anmeldung erwünscht bei
  Edwin Egeter\, unity@ref-einsiedeln.ch\n\nKontakt:
  edwin.egeter@ref-einsiedeln.ch\n\nWeitere Infos:
  https://www.ref-einsiedeln.ch/veranstaltung/4308
SUMMARY:Jugendgruppe UNITY
PRIORITY:5
X-MICROSOFT-CDO-IMPORTANCE:1
CLASS:PUBLIC
END:VEVENT
END:VCALENDAR
