BEGIN:VCALENDAR
PRODID:-//kirchenweb.ch gmbh//veranstaltungsausgabe v2.0//DE
VERSION:2.0
METHOD:PUBLISH
BEGIN:VEVENT
DTSTART:20260401T133000Z
DTEND:20260401T153000Z
LOCATION:Kirchgemeindehaus\, Schlüsselmattweg\, 8840 Einsiedeln
TRANSP:OPAQUE
SEQUENCE:0
UID:4338-veranstaltung@ref-einsiedeln.ch
DTSTAMP:20260331T130915Z
DESCRIPTION:Kleiderspenden können nur noch nach vorheriger Absprache
  entgegengenommen werden. Bitte keine Kleidersäcke deponieren.\n
 \nKontakt: fritz.lengacher@ref-einsiedeln.ch\n\nWeitere Infos:
  https://www.ref-einsiedeln.ch/veranstaltung/4338
SUMMARY:Kleiderabgabe zugunsten ukrainischer Flüchtlinge
PRIORITY:5
X-MICROSOFT-CDO-IMPORTANCE:1
CLASS:PUBLIC
END:VEVENT
END:VCALENDAR
