BEGIN:VCALENDAR
PRODID:-//kirchenweb.ch gmbh//veranstaltungsausgabe v2.0//DE
VERSION:2.0
METHOD:PUBLISH
BEGIN:VEVENT
DTSTART:20260402T173000Z
DTEND:20260402T183000Z
LOCATION:Kirche\, Schlüsselmattweg\, 8840 Einsiedeln
TRANSP:OPAQUE
SEQUENCE:0
UID:4340-veranstaltung@ref-einsiedeln.ch
DTSTAMP:20260414T142801Z
DESCRIPTION:anschliessendes Beisammensein mit Eiertütschen und feinem
  Osterkranz.\n\nKontakt: bettina.breitenstein@ref-einsiedeln.ch\n\nWeitere
  Infos: https://www.ref-einsiedeln.ch/veranstaltung/4340
SUMMARY:Osternachtfeier mit dem Thema "dunkel und Licht" mit Réka Jaeggi
  und Heidi Degiorgi
PRIORITY:5
X-MICROSOFT-CDO-IMPORTANCE:1
CLASS:PUBLIC
END:VEVENT
END:VCALENDAR
