BEGIN:VCALENDAR
PRODID:-//kirchenweb.ch gmbh//veranstaltungsausgabe v2.0//DE
VERSION:2.0
METHOD:PUBLISH
BEGIN:VEVENT
DTSTART:20260408T133000Z
DTEND:20260408T143000Z
LOCATION:Kirchgemeindehaus\, Schlüsselmattweg\, 8840 Einsiedeln
TRANSP:OPAQUE
SEQUENCE:0
UID:4355-veranstaltung@ref-einsiedeln.ch
DTSTAMP:20260323T122751Z
DESCRIPTION:Kleiderspenden können nur noch nach vorheriger Absprache
  entgegengenommen werden. Bitte keine Kleidersäcke deponieren.\n
 \nKontakt: fritz.lengacher@ref-einsiedeln.ch\n\nWeitere Infos:
  https://www.ref-einsiedeln.ch/veranstaltung/4355
SUMMARY:Kleiderabgabe zugunsten ukrainischer  Flüchtlinge 15.30-17.30
PRIORITY:5
X-MICROSOFT-CDO-IMPORTANCE:1
CLASS:PUBLIC
END:VEVENT
END:VCALENDAR
