BEGIN:VCALENDAR
PRODID:-//kirchenweb.ch gmbh//veranstaltungsausgabe v2.0//DE
VERSION:2.0
METHOD:PUBLISH
BEGIN:VEVENT
DTSTART:20260414T163000Z
DTEND:20260414T173000Z
LOCATION:Kirche\, Schlüsselmattweg\, 8840 Einsiedeln
TRANSP:OPAQUE
SEQUENCE:0
UID:4368-veranstaltung@ref-einsiedeln.ch
DTSTAMP:20260310T124229Z
DESCRIPTION:Duft Qi Gong im Kirchgemeindesaal & Meditation in Kirche\n
 \nKontakt: bettina.breitenstein@ref-einsiedeln.ch\n\nWeitere Infos:
  https://www.ref-einsiedeln.ch/veranstaltung/4368
SUMMARY:Schritte in die Stille: Duft Qi Gong & Meditation
PRIORITY:5
X-MICROSOFT-CDO-IMPORTANCE:1
CLASS:PUBLIC
END:VEVENT
END:VCALENDAR
