BEGIN:VCALENDAR
PRODID:-//kirchenweb.ch gmbh//veranstaltungsausgabe v2.0//DE
VERSION:2.0
METHOD:PUBLISH
BEGIN:VEVENT
DTSTART:20260416T120000Z
DTEND:20260416T130000Z
LOCATION:Kirchgemeindehaus\, Schlüsselmattweg\, 8840 Einsiedeln
TRANSP:OPAQUE
SEQUENCE:0
UID:4377-veranstaltung@ref-einsiedeln.ch
DTSTAMP:20260409T113916Z
DESCRIPTION:«Spielclub» \nEin paar gemütliche Runden Lotto\, mit viel
  Spass und tollen Preisen\, doch soll niemand leer ausgehen!\n\nKontakt:
  fritz.lengacher@ref-einsiedeln.ch\n\nWeitere Infos:
  https://www.ref-einsiedeln.ch/veranstaltung/4377
SUMMARY:Nachmittagsprogramm 60+ Anmeldung
PRIORITY:5
X-MICROSOFT-CDO-IMPORTANCE:1
CLASS:PUBLIC
END:VEVENT
END:VCALENDAR
