BEGIN:VCALENDAR
PRODID:-//kirchenweb.ch gmbh//veranstaltungsausgabe v2.0//DE
VERSION:2.0
METHOD:PUBLISH
BEGIN:VEVENT
DTSTART:20260422T160000Z
DTEND:20260422T170000Z
LOCATION:Kirche\, Schlüsselmattweg\, 8840 Einsiedeln
TRANSP:OPAQUE
SEQUENCE:0
UID:4389-veranstaltung@ref-einsiedeln.ch
DTSTAMP:20260320T120059Z
DESCRIPTION:Jeden Mittwoch kommen wir zusammen\, um zu beten\, gemeinsam
  und still jede und jeder für sich\, mit Liedern\, Musik\, kurzen
  Lesungen.\n\nKontakt: fritz.lengacher@ref-einsiedeln.ch\n\nWeitere Infos:
  https://www.ref-einsiedeln.ch/veranstaltung/4389
SUMMARY:Friedensgebet
PRIORITY:5
X-MICROSOFT-CDO-IMPORTANCE:1
CLASS:PUBLIC
END:VEVENT
END:VCALENDAR
