BEGIN:VCALENDAR
PRODID:-//kirchenweb.ch gmbh//veranstaltungsausgabe v2.0//DE
VERSION:2.0
METHOD:PUBLISH
BEGIN:VEVENT
DTSTART:20260424T160000Z
DTEND:20260424T180000Z
LOCATION:Kirchgemeindehaus\, Schlüsselmattweg\, 8840 Einsiedeln
TRANSP:OPAQUE
SEQUENCE:0
UID:4392-veranstaltung@ref-einsiedeln.ch
DTSTAMP:20260414T161925Z
DESCRIPTION:«Spray your Style & Bag your Message - Wir besprayen
  Umhängetaschen mit Schablonen und einem coolen persönlichen Motto» -
  Anmeldung erwünscht bei Edwin Egeter\, unity@ref-einsiedeln.ch\n
 \nKontakt: edwin.egeter@ref-einsiedeln.ch\n\nWeitere Infos:
  https://www.ref-einsiedeln.ch/veranstaltung/4392
SUMMARY:Jugendgruppe UNITY Anmeldung
PRIORITY:5
X-MICROSOFT-CDO-IMPORTANCE:1
CLASS:PUBLIC
END:VEVENT
END:VCALENDAR
