BEGIN:VCALENDAR
PRODID:-//kirchenweb.ch gmbh//veranstaltungsausgabe v2.0//DE
VERSION:2.0
METHOD:PUBLISH
BEGIN:VEVENT
DTSTART:20260511T153000Z
DTEND:20260511T163000Z
LOCATION:Zentrum Waldstatt\, Schmiedenstr. 10\, 8840 Einsiedeln
TRANSP:OPAQUE
SEQUENCE:0
UID:4406-veranstaltung@ref-einsiedeln.ch
DTSTAMP:20260409T100618Z
DESCRIPTION:Begegnungsabend - www.einsiedeln-mitenand.ch\n\nKontakt:
  bettina.breitenstein@ref-einsiedeln.ch\n\nWeitere Infos:
  https://www.ref-einsiedeln.ch/veranstaltung/4406
SUMMARY:Einsiedle mitenand
PRIORITY:5
X-MICROSOFT-CDO-IMPORTANCE:1
CLASS:PUBLIC
END:VEVENT
END:VCALENDAR
