BEGIN:VCALENDAR
PRODID:-//kirchenweb.ch gmbh//veranstaltungsausgabe v2.0//DE
VERSION:2.0
METHOD:PUBLISH
BEGIN:VEVENT
DTSTART:20260512T153000Z
DTEND:20260512T163000Z
LOCATION:Pfarrhaus\, Spitalstrasse 9\, 8840 Einsiedeln
TRANSP:OPAQUE
SEQUENCE:0
UID:4407-veranstaltung@ref-einsiedeln.ch
DTSTAMP:20260327T105032Z
DESCRIPTION:Verständnis finden\, getragen und begleitet sein\n\nKontakt:
  bettina.breitenstein@ref-einsiedeln.ch\n\nWeitere Infos:
  https://www.ref-einsiedeln.ch/veranstaltung/4407
SUMMARY:Trauercafé
PRIORITY:5
X-MICROSOFT-CDO-IMPORTANCE:1
CLASS:PUBLIC
END:VEVENT
END:VCALENDAR
