BEGIN:VCALENDAR
PRODID:-//kirchenweb.ch gmbh//veranstaltungsausgabe v2.0//DE
VERSION:2.0
METHOD:PUBLISH
BEGIN:VEVENT
DTSTART:20260513T133000Z
DTEND:20260513T143000Z
LOCATION:Kirchgemeindehaus\, Schlüsselmattweg\, 8840 Einsiedeln
TRANSP:OPAQUE
SEQUENCE:0
UID:4412-veranstaltung@ref-einsiedeln.ch
DTSTAMP:20260410T133818Z
DESCRIPTION:zugunsten ukrainischer  Flüchtlinge 15.30-17.30\n
 \nKleiderspenden können nur noch nach vorheriger Absprache
  entgegengenommen werden. Bitte keine Kleidersäcke deponieren. Infos:
  https://www.ref-einsiedeln.ch/kleiderboerse\n\nKontakt/Fragen: Chris
  Clark\, 079 507 70 40; Barbara Mitterecker 055 412 32 96\n\nKontakt:
  fritz.lengacher@ref-einsiedeln.ch\n\nWeitere Infos:
  https://www.ref-einsiedeln.ch/veranstaltung/4412
SUMMARY:Kleiderabgabe und -sammlung
PRIORITY:5
X-MICROSOFT-CDO-IMPORTANCE:1
CLASS:PUBLIC
END:VEVENT
END:VCALENDAR
