BEGIN:VCALENDAR
PRODID:-//kirchenweb.ch gmbh//veranstaltungsausgabe v2.0//DE
VERSION:2.0
METHOD:PUBLISH
BEGIN:VEVENT
DTSTART:20260514T120000Z
DTEND:20260514T130000Z
LOCATION:Altersheim Gerbe\, Gerbestrasse 5\, 8840 Einsiedeln
TRANSP:OPAQUE
SEQUENCE:0
UID:4415-veranstaltung@ref-einsiedeln.ch
DTSTAMP:20260409T101706Z
DESCRIPTION:in der Kapelle im Altersheim Gerbe \nöffentlich für alle\n
 \nKontakt: Pfrn. Réka Jaeggi\n\nWeitere Infos:
  https://www.ref-einsiedeln.ch/veranstaltung/4415
SUMMARY:Auffahrts-Gottesdienst
PRIORITY:5
X-MICROSOFT-CDO-IMPORTANCE:1
CLASS:PUBLIC
END:VEVENT
END:VCALENDAR
