BEGIN:VCALENDAR
PRODID:-//kirchenweb.ch gmbh//veranstaltungsausgabe v2.0//DE
VERSION:2.0
METHOD:PUBLISH
BEGIN:VEVENT
DTSTART:20260521T120000Z
DTEND:20260521T130000Z
LOCATION:Kirchgemeindehaus\, Schlüsselmattweg\, 8840 Einsiedeln
TRANSP:OPAQUE
SEQUENCE:0
UID:4424-veranstaltung@ref-einsiedeln.ch
DTSTAMP:20260417T063901Z
DESCRIPTION:«Maibummel» \nWir treffen uns bei schönem Wetter um 14.00
  Uhr am Bahnhof und machen einen Spaziergang zum Grillplatz\, wo Rita
  Kümin uns mit einer Bratwurst erwartet. Wer fahren möchte\, melde sich
  bei Pfr. Urs Jäger\n\nBei schlechtem Wetter treffen wir uns im
  Kirchgemeindehaus für einen Spielnachmittag. \n\nKontakt:
  fritz.lengacher@ref-einsiedeln.ch\n\nWeitere Infos:
  https://www.ref-einsiedeln.ch/veranstaltung/4424
SUMMARY:Nachmittagsprogramm 60+ Anmeldung
PRIORITY:5
X-MICROSOFT-CDO-IMPORTANCE:1
CLASS:PUBLIC
END:VEVENT
END:VCALENDAR
