BEGIN:VCALENDAR
PRODID:-//kirchenweb.ch gmbh//veranstaltungsausgabe v2.0//DE
VERSION:2.0
METHOD:PUBLISH
BEGIN:VEVENT
DTSTART:20260524T080000Z
DTEND:20260524T090000Z
LOCATION:Kirche\, Schlüsselmattweg\, 8840 Einsiedeln
TRANSP:OPAQUE
SEQUENCE:0
UID:4428-veranstaltung@ref-einsiedeln.ch
DTSTAMP:20260409T090345Z
DESCRIPTION:Im Rahmen des Festgottesdienstes wird Pfrn. Réka Jaeggi vom
  Dekan der Schwyzer Kantonalkirche Henning Müller offiziell ins Amt
  eingesetzt. Anschliessend sind alle zum Apéro eingeladen.\n\nKontakt:
  Pfr. Henning Müller \n\nWeitere Infos:
  https://www.ref-einsiedeln.ch/veranstaltung/4428
SUMMARY:Pfingst-Gottesdienst mit Abendmahl
PRIORITY:5
X-MICROSOFT-CDO-IMPORTANCE:1
CLASS:PUBLIC
END:VEVENT
END:VCALENDAR
