BEGIN:VCALENDAR
PRODID:-//kirchenweb.ch gmbh//veranstaltungsausgabe v2.0//DE
VERSION:2.0
METHOD:PUBLISH
BEGIN:VEVENT
DTSTART:20260528T120000Z
DTEND:20260528T130000Z
LOCATION:Altersheim Langrüti\, Allmeindstrasse 1\, 8840 Einsiedeln
TRANSP:OPAQUE
SEQUENCE:0
UID:4437-veranstaltung@ref-einsiedeln.ch
DTSTAMP:20260410T135738Z
DESCRIPTION:offen für alle Interessierten\n\nKontakt:
  bettina.breitenstein@ref-einsiedeln.ch\n\nWeitere Infos:
  https://www.ref-einsiedeln.ch/veranstaltung/4437
SUMMARY:Andacht Altersheim Langrüti
PRIORITY:5
X-MICROSOFT-CDO-IMPORTANCE:1
CLASS:PUBLIC
END:VEVENT
END:VCALENDAR
