BEGIN:VCALENDAR
PRODID:-//kirchenweb.ch gmbh//veranstaltungsausgabe v2.0//DE
VERSION:2.0
METHOD:PUBLISH
BEGIN:VEVENT
DTSTART:20260529T150000Z
DTEND:20260529T160000Z
LOCATION:Kirchgemeindehaus\, Schlüsselmattweg\, 8840 Einsiedeln
TRANSP:OPAQUE
SEQUENCE:0
UID:4438-veranstaltung@ref-einsiedeln.ch
DTSTAMP:20260422T140454Z
DESCRIPTION:Kontakt: susanne.caranci@ref-einsiedeln.ch\n\nWeitere Infos:
  https://www.ref-einsiedeln.ch/veranstaltung/4438
SUMMARY:Projekt 7.&8.Kl.\, Der Film "Simon Birch" - Was ist meine
  Aufgabe?\, Heidi Degiorgi
PRIORITY:5
X-MICROSOFT-CDO-IMPORTANCE:1
CLASS:PUBLIC
END:VEVENT
END:VCALENDAR
