BEGIN:VCALENDAR
PRODID:-//kirchenweb.ch gmbh//veranstaltungsausgabe v2.0//DE
VERSION:2.0
METHOD:PUBLISH
BEGIN:VEVENT
DTSTART:20260529T160000Z
DTEND:20260529T183000Z
LOCATION:Treffpunkt: Minigolfanlage Klosterplatz\, Ilgenweidstrasse 14\,
  8840 Einsiedeln
TRANSP:OPAQUE
SEQUENCE:0
UID:4440-veranstaltung@ref-einsiedeln.ch
DTSTAMP:20260422T152920Z
DESCRIPTION:Anstelle eines Elternabends lernen die Jugendlichen unter sich
  und in lockerer Atmosphäre beim Minigolf unsere Oberstufen
  Unterrichts-Projekte und zugleich die Jugendgruppe
  https://www.ref-einsiedeln.ch/jugend kennen. \n\nDanach gibt es
  Gelegenheit zum Austausch mit Pizza vom Klostergarten. \n\n\nKontakt:
  Pfrn. Réka Jaeggi\nEdwin Egeter\n\nWeitere Infos:
  https://www.ref-einsiedeln.ch/veranstaltung/4440
SUMMARY:«To Go Out!»: Einführung Projektunti mit Minigolf! Am
  Freitagabend - Zusammen mit Unity
PRIORITY:5
X-MICROSOFT-CDO-IMPORTANCE:1
CLASS:PUBLIC
END:VEVENT
END:VCALENDAR
