BEGIN:VCALENDAR
PRODID:-//kirchenweb.ch gmbh//veranstaltungsausgabe v2.0//DE
VERSION:2.0
METHOD:PUBLISH
BEGIN:VEVENT
DTSTART:20260529T160000Z
DTEND:20260529T180000Z
LOCATION:Eingang Minigolf\, \, 8840 Einsiedeln
TRANSP:OPAQUE
SEQUENCE:0
UID:4441-veranstaltung@ref-einsiedeln.ch
DTSTAMP:20260414T131952Z
DESCRIPTION:«Welcome for the New Members\, Crazy Golf & Best Picnic!»
  Anmeldung erwünscht bei Edwin Egeter\, unity@ref-einsiedeln.ch\n
 \nKontakt: edwin.egeter@ref-einsiedeln.ch\n\nWeitere Infos:
  https://www.ref-einsiedeln.ch/veranstaltung/4441
SUMMARY:Jugendgruppe UNITY Anmeldung
PRIORITY:5
X-MICROSOFT-CDO-IMPORTANCE:1
CLASS:PUBLIC
END:VEVENT
END:VCALENDAR
