BEGIN:VCALENDAR
PRODID:-//kirchenweb.ch gmbh//veranstaltungsausgabe v2.0//DE
VERSION:2.0
METHOD:PUBLISH
BEGIN:VEVENT
DTSTART:20260530T070000Z
DTEND:20260530T080000Z
LOCATION:Kirchgemeindehaus\, Schlüsselmattweg\, 8840 Einsiedeln
TRANSP:OPAQUE
SEQUENCE:0
UID:4442-veranstaltung@ref-einsiedeln.ch
DTSTAMP:20260422T135412Z
DESCRIPTION:Unsere Konfessionen\n\nKontakt:
  susanne.caranci@ref-einsiedeln.ch\n\nWeitere Infos:
  https://www.ref-einsiedeln.ch/veranstaltung/4442
SUMMARY:RU Modul 3.&4. Klasse\, Alexandra Blokker
PRIORITY:5
X-MICROSOFT-CDO-IMPORTANCE:1
CLASS:PUBLIC
END:VEVENT
END:VCALENDAR
