BEGIN:VCALENDAR
PRODID:-//kirchenweb.ch gmbh//veranstaltungsausgabe v2.0//DE
VERSION:2.0
METHOD:PUBLISH
BEGIN:VEVENT
DTSTART:20260530T150000Z
DTEND:20260530T160000Z
LOCATION:Kirche\, Schlüsselmattweg\, 8840 Einsiedeln
TRANSP:OPAQUE
SEQUENCE:0
UID:4444-veranstaltung@ref-einsiedeln.ch
DTSTAMP:20260401T120242Z
DESCRIPTION:Anschliessend an den Familien-Gottesdienst findet ein Brunch
  in Form einer «Teilete» statt. \n\nUm ein vielfältiges Buffet (kalte
  Speisen und Dessert) anbieten zu können\, wären wir froh\, wenn so
  viele wie möglich etwas zum Buffet beitragen könnten. Bitte meldet Euch
  hierfür bei Rita Kümin bis 26. Mai unter 078 632 77 74 oder
  rita.kuemin@gmx.ch. \n\nEin herzliches Dankeschön an alle\, die sich
  daran beteiligen und den Abend bereichern! \n\nKontakt: Pfr. Urs Jäger\n
 \nWeitere Infos: https://www.ref-einsiedeln.ch/veranstaltung/4444
SUMMARY:Familien-Gottesdienst
PRIORITY:5
X-MICROSOFT-CDO-IMPORTANCE:1
CLASS:PUBLIC
END:VEVENT
END:VCALENDAR
