BEGIN:VCALENDAR
PRODID:-//kirchenweb.ch gmbh//veranstaltungsausgabe v2.0//DE
VERSION:2.0
METHOD:PUBLISH
BEGIN:VEVENT
DTSTART:20260611T173000Z
DTEND:20260611T183000Z
LOCATION:Rosengarten\,  Spitalstrasse 16\, 8840 Einsiedeln
TRANSP:OPAQUE
SEQUENCE:0
UID:4468-veranstaltung@ref-einsiedeln.ch
DTSTAMP:20260218T081934Z
DESCRIPTION:Stammtisch\n\nKontakt: bettina.breitenstein@ref-einsiedeln.ch
 \n\nWeitere Infos: https://www.ref-einsiedeln.ch/veranstaltung/4468
SUMMARY:Männerstamm
PRIORITY:5
X-MICROSOFT-CDO-IMPORTANCE:1
CLASS:PUBLIC
END:VEVENT
END:VCALENDAR
