BEGIN:VCALENDAR
PRODID:-//kirchenweb.ch gmbh//veranstaltungsausgabe v2.0//DE
VERSION:2.0
METHOD:PUBLISH
BEGIN:VEVENT
DTSTART:20260613T070000Z
DTEND:20260613T080000Z
LOCATION:Kirchgemeindehaus\, Schlüsselmattweg\, 8840 Einsiedeln
TRANSP:OPAQUE
SEQUENCE:0
UID:4469-veranstaltung@ref-einsiedeln.ch
DTSTAMP:20260422T135412Z
DESCRIPTION:Liebe Eltern der 1. & 2. Klasse Kinder SJ 25/26\n\nWir freuen
  uns sehr\, Sie zu unserem «ElKi-Treff» einzuladen. Wir werden an diesem
  Vormittag singen\, lachen\, spielen und basteln sowie gemeinsam einen
  «Zmorge» geniessen. Und Sie als Eltern erfahren alles Wichtige zum
  Religionsunterricht auf der Primarstufe.\n\nFür die Planung des Zmorgen
  müssen wir wissen\, ob Ihr Kind von 1 oder 2 Erwachsenen begleitet wird
  und ob Unverträglichkeiten vorhanden sind. Deshalb bitten wir Sie um
  eine An- oder Abmeldung via  Online-Formular oder per Mail ans
  Sekretariat mit Namen der Teilnehmenden (und Kind mit Angabe der Klasse)
  bis am 15. Mai 2026.\n\nDann bitten wir Sie um Verständnis\, dass keine
  Geschwister teilnehmen können. Dies hat zum einen mit Platzgründen\,
  aber auch damit zu tun\, weil wir möchten\, dass Sie sich Ihrem Kind
  exklusiv widmen können. Wir verstehen aber\, wenn es für einige von
  Ihnen schwierig ist\, dies zu organisieren. Falls Sie also keine
  Betreuung für die Geschwister finden\, können Sie sie mitbringen.
  Melden Sie uns dies bitte vorher.\nKurzfristige Abmeldungen bitte bei
  Sarah Feil http://sarah.feil@ref-sz.ch\n\nWir freuen uns darauf\, Sie
  kennen zu lernen.\nFreundliche Grüsse\n\nSarah Feil\, KGR Ressort
  Unterricht\n\n\nKontakt: susanne.caranci@ref-einsiedeln.ch\n\nWeitere
  Infos: https://www.ref-einsiedeln.ch/veranstaltung/4469
SUMMARY:«ElKi Treff» RU Modul - Eltern-Kind Frühstück 1.-2. Klasse SJ
  25/26 Anmeldung
PRIORITY:5
X-MICROSOFT-CDO-IMPORTANCE:1
CLASS:PUBLIC
END:VEVENT
END:VCALENDAR
