BEGIN:VCALENDAR
PRODID:-//kirchenweb.ch gmbh//veranstaltungsausgabe v2.0//DE
VERSION:2.0
METHOD:PUBLISH
BEGIN:VEVENT
DTSTART:20260614T060000Z
DTEND:20260614T070000Z
LOCATION:auswärts\, \,
TRANSP:OPAQUE
SEQUENCE:0
UID:4471-veranstaltung@ref-einsiedeln.ch
DTSTAMP:20260416T124412Z
DESCRIPTION:in Bad Wörishofen\n\nAnmeldung bis 1. April 2026
 \nhttps://www.ref-einsiedeln.ch/anmeldung_ferien_ue60_26_06_14bis21\n
 \nKontakt: fritz.lengacher@ref-einsiedeln.ch\n\nWeitere Infos:
  https://www.ref-einsiedeln.ch/veranstaltung/4471
SUMMARY:Ferien 60+
PRIORITY:5
X-MICROSOFT-CDO-IMPORTANCE:1
CLASS:PUBLIC
END:VEVENT
END:VCALENDAR
