BEGIN:VCALENDAR
PRODID:-//kirchenweb.ch gmbh//veranstaltungsausgabe v2.0//DE
VERSION:2.0
METHOD:PUBLISH
BEGIN:VEVENT
DTSTART:20260616T060000Z
DTEND:20260616T070000Z
LOCATION:auswärts\, \,
TRANSP:OPAQUE
SEQUENCE:0
UID:4473-veranstaltung@ref-einsiedeln.ch
DTSTAMP:20260220T145804Z
DESCRIPTION:in Bad Wörishofen\n\nAnmeldung beim Sekretariat bis 1. April
  2026\n\nKontakt: fritz.lengacher@ref-einsiedeln.ch\n\nWeitere Infos:
  https://www.ref-einsiedeln.ch/veranstaltung/4473
SUMMARY:Ferien 60+
PRIORITY:5
X-MICROSOFT-CDO-IMPORTANCE:1
CLASS:PUBLIC
END:VEVENT
END:VCALENDAR
