BEGIN:VCALENDAR
PRODID:-//kirchenweb.ch gmbh//veranstaltungsausgabe v2.0//DE
VERSION:2.0
METHOD:PUBLISH
BEGIN:VEVENT
DTSTART:20260617T113000Z
DTEND:20260617T123000Z
LOCATION:Kirchgemeindehaus\, Schlüsselmattweg\, 8840 Einsiedeln
TRANSP:OPAQUE
SEQUENCE:0
UID:4485-veranstaltung@ref-einsiedeln.ch
DTSTAMP:20260422T135412Z
DESCRIPTION:Mose Teil 1\n\nKontakt: susanne.caranci@ref-einsiedeln.ch\n
 \nWeitere Infos: https://www.ref-einsiedeln.ch/veranstaltung/4485
SUMMARY:RU Modul 2. Klasse\, Melanie Haunsperger
PRIORITY:5
X-MICROSOFT-CDO-IMPORTANCE:1
CLASS:PUBLIC
END:VEVENT
END:VCALENDAR
