BEGIN:VCALENDAR
PRODID:-//kirchenweb.ch gmbh//veranstaltungsausgabe v2.0//DE
VERSION:2.0
METHOD:PUBLISH
BEGIN:VEVENT
DTSTART:20260624T113000Z
DTEND:20260624T123000Z
LOCATION:Kirchgemeindehaus\, Schlüsselmattweg\, 8840 Einsiedeln
TRANSP:OPAQUE
SEQUENCE:0
UID:4496-veranstaltung@ref-einsiedeln.ch
DTSTAMP:20260422T140454Z
DESCRIPTION:Kontakt: susanne.caranci@ref-einsiedeln.ch\n\nWeitere Infos:
  https://www.ref-einsiedeln.ch/veranstaltung/4496
SUMMARY:Projekt 7.&8.Kl.\, Spurensuche 2\, Réka Jaeggi & Barbara Hubele
PRIORITY:5
X-MICROSOFT-CDO-IMPORTANCE:1
CLASS:PUBLIC
END:VEVENT
END:VCALENDAR
