BEGIN:VCALENDAR
PRODID:-//kirchenweb.ch gmbh//veranstaltungsausgabe v2.0//DE
VERSION:2.0
METHOD:PUBLISH
BEGIN:VEVENT
DTSTART:20260625T160000Z
DTEND:20260625T170000Z
LOCATION:Kirchgemeindehaus\, Schlüsselmattweg\, 8840 Einsiedeln
TRANSP:OPAQUE
SEQUENCE:0
UID:4501-veranstaltung@ref-einsiedeln.ch
DTSTAMP:20260416T111339Z
DESCRIPTION:Seit April 2025 laden wir jeden Monat zu einem Trauercafé
  ein.\n\nMit dem Trauercafé Spezial bieten wir ein etwas anderes Treffen
  an.\nWir laden ein zu Speis und Trank in einer gemütlichen Runde.
 \nEingeladen sind alle\, die schon einmal dabei waren oder \ndie neugierig
  sind und mehr über das Trauercafé erfahren möchten.\n\nTreffpunkt:
  ref. Kirchgemeindehaus\, Schlüsselmattweg\, 8840 Einsiedeln.\n\nGerne
  erwarten wir Ihre/ Deine Anmeldung bis zum 18. Juni an
 \nmarlies.frischknecht@einsiedeln.ameos.ch\, 078 712 38 76 \noder via
  untenstehendes Formular.\n\nWir freuen uns auf Sie / auf Dich\n\nUrs
  Jäger\, Réka Jaeggi\, P. Basil\, Maja Schweizer\, Marlies Frischknecht
 \n\n\nKontakt: bettina.breitenstein@ref-einsiedeln.ch\n\nWeitere Infos:
  https://www.ref-einsiedeln.ch/veranstaltung/4501
SUMMARY:Trauercafé Spezial Anmeldung
PRIORITY:5
X-MICROSOFT-CDO-IMPORTANCE:1
CLASS:PUBLIC
END:VEVENT
END:VCALENDAR
