BEGIN:VCALENDAR
PRODID:-//kirchenweb.ch gmbh//veranstaltungsausgabe v2.0//DE
VERSION:2.0
METHOD:PUBLISH
BEGIN:VEVENT
DTSTART:20260627T070000Z
DTEND:20260627T080000Z
LOCATION:Kirchgemeindehaus\, Schlüsselmattweg\, 8840 Einsiedeln
TRANSP:OPAQUE
SEQUENCE:0
UID:4504-veranstaltung@ref-einsiedeln.ch
DTSTAMP:20260422T135412Z
DESCRIPTION:Pfingsten Teil 2\n\nKontakt: susanne.caranci@ref-einsiedeln.ch
 \n\nWeitere Infos: https://www.ref-einsiedeln.ch/veranstaltung/4504
SUMMARY:RU Modul 3.&4. Klasse\, Heidi Degiorgi
PRIORITY:5
X-MICROSOFT-CDO-IMPORTANCE:1
CLASS:PUBLIC
END:VEVENT
END:VCALENDAR
