BEGIN:VCALENDAR
PRODID:-//kirchenweb.ch gmbh//veranstaltungsausgabe v2.0//DE
VERSION:2.0
METHOD:PUBLISH
BEGIN:VEVENT
DTSTART:20260627T070000Z
DTEND:20260627T080000Z
LOCATION:Kirchgemeindehaus\, Schlüsselmattweg\, 8840 Einsiedeln
TRANSP:OPAQUE
SEQUENCE:0
UID:4505-veranstaltung@ref-einsiedeln.ch
DTSTAMP:20260422T135412Z
DESCRIPTION:Land und Leben in Palästina\n\nKontakt:
  susanne.caranci@ref-einsiedeln.ch\n\nWeitere Infos:
  https://www.ref-einsiedeln.ch/veranstaltung/4505
SUMMARY:RU Modul 5.&6. Klasse\, Alexandra Blokker
PRIORITY:5
X-MICROSOFT-CDO-IMPORTANCE:1
CLASS:PUBLIC
END:VEVENT
END:VCALENDAR
