BEGIN:VCALENDAR
PRODID:-//kirchenweb.ch gmbh//veranstaltungsausgabe v2.0//DE
VERSION:2.0
METHOD:PUBLISH
BEGIN:VEVENT
DTSTART:20260627T150000Z
DTEND:20260627T160000Z
LOCATION:Kirche\, Schlüsselmattweg\, 8840 Einsiedeln
TRANSP:OPAQUE
SEQUENCE:0
UID:4506-veranstaltung@ref-einsiedeln.ch
DTSTAMP:20260417T093411Z
DESCRIPTION:Nach der kurzen Feier gibt es einen kleinen Imbiss für alle.
 \n\nKontakt: bettina.breitenstein@ref-einsiedeln.ch\n\nWeitere Infos:
  https://www.ref-einsiedeln.ch/veranstaltung/4506
SUMMARY:Chinderfiir PLUS für Gross und Klein mit Heidi Degiorgi
PRIORITY:5
X-MICROSOFT-CDO-IMPORTANCE:1
CLASS:PUBLIC
END:VEVENT
END:VCALENDAR
