BEGIN:VCALENDAR
PRODID:-//kirchenweb.ch gmbh//veranstaltungsausgabe v2.0//DE
VERSION:2.0
METHOD:PUBLISH
BEGIN:VEVENT
DTSTART:20260628T080000Z
DTEND:20260628T090000Z
LOCATION:Kirche\, Schlüsselmattweg\, 8840 Einsiedeln
TRANSP:OPAQUE
SEQUENCE:0
UID:4507-veranstaltung@ref-einsiedeln.ch
DTSTAMP:20260401T120309Z
DESCRIPTION:Mitgestaltung der 2. Klasse & Melanie Haunsperger\n\nKontakt:
  Pfr. Urs Jäger\n\nWeitere Infos:
  https://www.ref-einsiedeln.ch/veranstaltung/4507
SUMMARY:Familien-Gottesdienst
PRIORITY:5
X-MICROSOFT-CDO-IMPORTANCE:1
CLASS:PUBLIC
END:VEVENT
END:VCALENDAR
