BEGIN:VCALENDAR
PRODID:-//kirchenweb.ch gmbh//veranstaltungsausgabe v2.0//DE
VERSION:2.0
METHOD:PUBLISH
BEGIN:VEVENT
DTSTART:20260702T120000Z
DTEND:20260702T130000Z
LOCATION:Altersheim Unteriberg\, Waagtalstrasse 9c\, 8842 Unteriberg
TRANSP:OPAQUE
SEQUENCE:0
UID:4516-veranstaltung@ref-einsiedeln.ch
DTSTAMP:20260325T085521Z
DESCRIPTION:offen für alle\nWer mitfahren möchte\, darf sich im
  Sekretariat melden.\n\nKontakt: bettina.breitenstein@ref-einsiedeln.ch\n
 \nWeitere Infos: https://www.ref-einsiedeln.ch/veranstaltung/4516
SUMMARY:Andacht Altersheim Unteriberg
PRIORITY:5
X-MICROSOFT-CDO-IMPORTANCE:1
CLASS:PUBLIC
END:VEVENT
END:VCALENDAR
