BEGIN:VCALENDAR
PRODID:-//kirchenweb.ch gmbh//veranstaltungsausgabe v2.0//DE
VERSION:2.0
METHOD:PUBLISH
BEGIN:VEVENT
DTSTART:20260801T100000Z
DTEND:20260801T110000Z
LOCATION:Paracelsuspark\, Paracelsuspark\, 8840 Einsiedeln
TRANSP:OPAQUE
SEQUENCE:0
UID:4537-veranstaltung@ref-einsiedeln.ch
DTSTAMP:20260401T120339Z
DESCRIPTION:Kontakt: bettina.breitenstein@ref-einsiedeln.ch\n\nWeitere
  Infos: https://www.ref-einsiedeln.ch/veranstaltung/4537
SUMMARY:ökumenische 1. August-Andacht mit Pfr. Urs Jäger und Pater Basil
PRIORITY:5
X-MICROSOFT-CDO-IMPORTANCE:1
CLASS:PUBLIC
END:VEVENT
END:VCALENDAR
