BEGIN:VCALENDAR
PRODID:-//kirchenweb.ch gmbh//veranstaltungsausgabe v2.0//DE
VERSION:2.0
METHOD:PUBLISH
BEGIN:VEVENT
DTSTART:20260801T163000Z
DTEND:20260801T173000Z
LOCATION:Ochsenboden Kapelle\, Ochsenbodenstrasse\, 8840 Studen
TRANSP:OPAQUE
SEQUENCE:0
UID:4538-veranstaltung@ref-einsiedeln.ch
DTSTAMP:20260317T104038Z
DESCRIPTION:Kontakt: bettina.breitenstein@ref-einsiedeln.ch\n\nWeitere
  Infos: https://www.ref-einsiedeln.ch/veranstaltung/4538
SUMMARY:Andacht im Ochsenboden Studen
PRIORITY:5
X-MICROSOFT-CDO-IMPORTANCE:1
CLASS:PUBLIC
END:VEVENT
END:VCALENDAR
