BEGIN:VCALENDAR
PRODID:-//kirchenweb.ch gmbh//veranstaltungsausgabe v2.0//DE
VERSION:2.0
METHOD:PUBLISH
BEGIN:VEVENT
DTSTART:20260802T070000Z
DTEND:20260802T080000Z
LOCATION:Kirchgemeindehaus\, Schlüsselmattweg\, 8840 Einsiedeln
TRANSP:OPAQUE
SEQUENCE:0
UID:4545-veranstaltung@ref-einsiedeln.ch
DTSTAMP:20260324T112249Z
DESCRIPTION:Kontakt: bettina.breitenstein@ref-einsiedeln.ch\n\nWeitere
  Infos: https://www.ref-einsiedeln.ch/veranstaltung/4545
SUMMARY:Chilezmorge
PRIORITY:5
X-MICROSOFT-CDO-IMPORTANCE:1
CLASS:PUBLIC
END:VEVENT
END:VCALENDAR
