BEGIN:VCALENDAR
PRODID:-//kirchenweb.ch gmbh//veranstaltungsausgabe v2.0//DE
VERSION:2.0
METHOD:PUBLISH
BEGIN:VEVENT
DTSTART:20260809T080000Z
DTEND:20260809T090000Z
LOCATION:Kirche\, Schlüsselmattweg\, 8840 Einsiedeln
TRANSP:OPAQUE
SEQUENCE:0
UID:4552-veranstaltung@ref-einsiedeln.ch
DTSTAMP:20260401T120344Z
DESCRIPTION:Kontakt: Pfr. Urs Jäger\n\nWeitere Infos:
  https://www.ref-einsiedeln.ch/veranstaltung/4552
SUMMARY:Gottesdienst zum Sommerfest Mitgestaltung Kinderlager
PRIORITY:5
X-MICROSOFT-CDO-IMPORTANCE:1
CLASS:PUBLIC
END:VEVENT
END:VCALENDAR
