BEGIN:VCALENDAR
PRODID:-//kirchenweb.ch gmbh//veranstaltungsausgabe v2.0//DE
VERSION:2.0
METHOD:PUBLISH
BEGIN:VEVENT
DTSTART:20260823T080000Z
DTEND:20260823T100000Z
LOCATION:Kirche\, Schlüsselmattweg\, 8840 Einsiedeln
TRANSP:OPAQUE
SEQUENCE:0
UID:4567-veranstaltung@ref-einsiedeln.ch
DTSTAMP:20260414T165435Z
DESCRIPTION:Generationenübergreifender Gottesdienst.\n\nNach dem
  Gottesdienst\, werden wir bei einem Apéro auch die Gelegenheit haben\,
  uns auszutauschen und besser kennen zu lernen. \n\nKontakt: Pfrn. Réka
  Jaeggi\n\nWeitere Infos: https://www.ref-einsiedeln.ch/veranstaltung/4567
SUMMARY:Begrüssungs-Gottesdienst mit Apéro
PRIORITY:5
X-MICROSOFT-CDO-IMPORTANCE:1
CLASS:PUBLIC
END:VEVENT
END:VCALENDAR
