BEGIN:VCALENDAR
PRODID:-//kirchenweb.ch gmbh//veranstaltungsausgabe v2.0//DE
VERSION:2.0
METHOD:PUBLISH
BEGIN:VEVENT
DTSTART:20260912T080000Z
DTEND:20260912T090000Z
LOCATION:Bahnhof Einsiedeln\, Bahnhofplatz 1\, 8840 Einsiedeln
TRANSP:OPAQUE
SEQUENCE:0
UID:4586-veranstaltung@ref-einsiedeln.ch
DTSTAMP:20260422T140422Z
DESCRIPTION:Treffpunkt am Samstag um 10.00 Uhr am Bahnhof Einsiedeln.\n
 \nDie Jugendlichen von Rothenthurm treffen wir im Zug \n(Voralpenexpress
  Richtung Wattwil\, Abfahrt in Rothenthurm um 10.29 Uhr) \nWeiterreise zum
  Frauenfelderhaus Wildhaus bei Nesslau SG.\n\n\nKontakt:
  susanne.caranci@ref-einsiedeln.ch\n\nWeitere Infos:
  https://www.ref-einsiedeln.ch/veranstaltung/4586
SUMMARY:Konfirmationslager im Frauenfelderhaus Wildhaus
PRIORITY:5
X-MICROSOFT-CDO-IMPORTANCE:1
CLASS:PUBLIC
END:VEVENT
END:VCALENDAR
