BEGIN:VCALENDAR
PRODID:-//kirchenweb.ch gmbh//veranstaltungsausgabe v2.0//DE
VERSION:2.0
METHOD:PUBLISH
BEGIN:VEVENT
DTSTART:20260915T100000Z
DTEND:20260915T110000Z
LOCATION:Kirchgemeindehaus\, Schlüsselmattweg\, 8840 Einsiedeln
TRANSP:OPAQUE
SEQUENCE:0
UID:4592-veranstaltung@ref-einsiedeln.ch
DTSTAMP:20260330T094332Z
DESCRIPTION:mit Anmeldung bis Donnerstag-Abend: Sekretariat oder am besten
  via Online-Formular\n\nKontakt: fritz.lengacher@ref-einsiedeln.ch\n
 \nWeitere Infos: https://www.ref-einsiedeln.ch/veranstaltung/4592
SUMMARY:Gfreuts Ässe Anmeldung
PRIORITY:5
X-MICROSOFT-CDO-IMPORTANCE:1
CLASS:PUBLIC
END:VEVENT
END:VCALENDAR
