BEGIN:VCALENDAR
PRODID:-//kirchenweb.ch gmbh//veranstaltungsausgabe v2.0//DE
VERSION:2.0
METHOD:PUBLISH
BEGIN:VEVENT
DTSTART:20260920T080000Z
DTEND:20260920T090000Z
LOCATION:Jugendkirche Einsiedeln\, Eisenbahnstrasse 24\, 8840 Einsiedeln
TRANSP:OPAQUE
SEQUENCE:0
UID:4597-veranstaltung@ref-einsiedeln.ch
DTSTAMP:20260401T120419Z
DESCRIPTION:Bettag\n\nKontakt: Pfr. Urs Jäger\n\nWeitere Infos:
  https://www.ref-einsiedeln.ch/veranstaltung/4597
SUMMARY:Gottesdienst\, in der Jugendkirche
PRIORITY:5
X-MICROSOFT-CDO-IMPORTANCE:1
CLASS:PUBLIC
END:VEVENT
END:VCALENDAR
