BEGIN:VCALENDAR
PRODID:-//kirchenweb.ch gmbh//veranstaltungsausgabe v2.0//DE
VERSION:2.0
METHOD:PUBLISH
BEGIN:VEVENT
DTSTART:20260616T073000Z
DTEND:20260616T083000Z
LOCATION:Jugendkirche\, Eisenbahnstrasse 24\, 8840 Einsiedeln
TRANSP:OPAQUE
SEQUENCE:0
UID:4600-veranstaltung@ref-einsiedeln.ch
DTSTAMP:20260401T120256Z
DESCRIPTION:Durchgeführt von Frauen der kath. und ref. Kirchgemeinde\n
 \nKontakt: Heidi Degiorgi\n\nWeitere Infos:
  https://www.ref-einsiedeln.ch/veranstaltung/4600
SUMMARY:Ökumenischer Frauengottesdienst
PRIORITY:5
X-MICROSOFT-CDO-IMPORTANCE:1
CLASS:PUBLIC
END:VEVENT
END:VCALENDAR
