BEGIN:VCALENDAR
PRODID:-//kirchenweb.ch gmbh//veranstaltungsausgabe v2.0//DE
VERSION:2.0
METHOD:PUBLISH
BEGIN:VEVENT
DTSTART:20261022T120000Z
DTEND:20261022T130000Z
LOCATION:Kirchgemeindehaus\, Schlüsselmattweg\, 8840 Einsiedeln
TRANSP:OPAQUE
SEQUENCE:0
UID:4628-veranstaltung@ref-einsiedeln.ch
DTSTAMP:20260409T114017Z
DESCRIPTION:«Castagnata» \n\nKontakt: fritz.lengacher@ref-einsiedeln.ch
 \n\nWeitere Infos: https://www.ref-einsiedeln.ch/veranstaltung/4628
SUMMARY:Nachmittagsprogramm 60+ Anmeldung
PRIORITY:5
X-MICROSOFT-CDO-IMPORTANCE:1
CLASS:PUBLIC
END:VEVENT
END:VCALENDAR
