BEGIN:VCALENDAR
PRODID:-//kirchenweb.ch gmbh//veranstaltungsausgabe v2.0//DE
VERSION:2.0
METHOD:PUBLISH
BEGIN:VEVENT
DTSTART:20261027T130000Z
DTEND:20261027T140000Z
LOCATION:Altersheim Gerbe\, Gerbestrasse 5\, 8840 Einsiedeln
TRANSP:OPAQUE
SEQUENCE:0
UID:4632-veranstaltung@ref-einsiedeln.ch
DTSTAMP:20260317T104038Z
DESCRIPTION:offen für alle Interessierten\n\nKontakt:
  bettina.breitenstein@ref-einsiedeln.ch\n\nWeitere Infos:
  https://www.ref-einsiedeln.ch/veranstaltung/4632
SUMMARY:Andacht Altersheim Gerbe\,
PRIORITY:5
X-MICROSOFT-CDO-IMPORTANCE:1
CLASS:PUBLIC
END:VEVENT
END:VCALENDAR
