BEGIN:VCALENDAR
PRODID:-//kirchenweb.ch gmbh//veranstaltungsausgabe v2.0//DE
VERSION:2.0
METHOD:PUBLISH
BEGIN:VEVENT
DTSTART:20261031T160000Z
DTEND:20261031T170000Z
LOCATION:Kirche\, Schlüsselmattweg\, 8840 Einsiedeln
TRANSP:OPAQUE
SEQUENCE:0
UID:4635-veranstaltung@ref-einsiedeln.ch
DTSTAMP:20260421T173423Z
DESCRIPTION:Der Jugendgottesdienst zum Reformationstag wird von
  Konfirmand:innen vorbereitet.\n\nKontakt: Pfr. Urs Jäger\n\nWeitere
  Infos: https://www.ref-einsiedeln.ch/veranstaltung/4635
SUMMARY:Jugendgottesdienst zum Reformationstag mit Abendmahl
PRIORITY:5
X-MICROSOFT-CDO-IMPORTANCE:1
CLASS:PUBLIC
END:VEVENT
END:VCALENDAR
