BEGIN:VCALENDAR
PRODID:-//kirchenweb.ch gmbh//veranstaltungsausgabe v2.0//DE
VERSION:2.0
METHOD:PUBLISH
BEGIN:VEVENT
DTSTART:20261119T183000Z
DTEND:20261119T193000Z
LOCATION:Kirchgemeindehaus\, Schlüsselmattweg\, 8840 Einsiedeln
TRANSP:OPAQUE
SEQUENCE:0
UID:4656-veranstaltung@ref-einsiedeln.ch
DTSTAMP:20260310T100508Z
DESCRIPTION:Vorbereitung Frauenkochen: Zeiten und Personal werden noch
  festgelegt.\n\nKontakt: bettina.breitenstein@ref-einsiedeln.ch\n\nWeitere
  Infos: https://www.ref-einsiedeln.ch/veranstaltung/4656
SUMMARY:Männerstamm - Vorbereitung Frauenkochen
PRIORITY:5
X-MICROSOFT-CDO-IMPORTANCE:1
CLASS:PUBLIC
END:VEVENT
END:VCALENDAR
