BEGIN:VCALENDAR
PRODID:-//kirchenweb.ch gmbh//veranstaltungsausgabe v2.0//DE
VERSION:2.0
METHOD:PUBLISH
BEGIN:VEVENT
DTSTART:20261205T160000Z
DTEND:20261205T170000Z
LOCATION:Kirche\, Schlüsselmattweg\, 8840 Einsiedeln
TRANSP:OPAQUE
SEQUENCE:0
UID:4664-veranstaltung@ref-einsiedeln.ch
DTSTAMP:20260417T093225Z
DESCRIPTION:Kontakt: bettina.breitenstein@ref-einsiedeln.ch\n\nWeitere
  Infos: https://www.ref-einsiedeln.ch/veranstaltung/4664
SUMMARY:Chlausfiir mit Chinderfiir PLUS für Gross und Klein mit Heidi
  Degiorgi
PRIORITY:5
X-MICROSOFT-CDO-IMPORTANCE:1
CLASS:PUBLIC
END:VEVENT
END:VCALENDAR
