BEGIN:VCALENDAR
PRODID:-//kirchenweb.ch gmbh//veranstaltungsausgabe v2.0//DE
VERSION:2.0
METHOD:PUBLISH
BEGIN:VEVENT
DTSTART:20261206T090000Z
DTEND:20261206T100000Z
LOCATION:Kirche\, Schlüsselmattweg\, 8840 Einsiedeln
TRANSP:OPAQUE
SEQUENCE:0
UID:4666-veranstaltung@ref-einsiedeln.ch
DTSTAMP:20260401T120528Z
DESCRIPTION:2. Advent\n\nKontakt: Pfrn. Réka Jaeggi\n\nWeitere Infos:
  https://www.ref-einsiedeln.ch/veranstaltung/4666
SUMMARY:Gottesdienst
PRIORITY:5
X-MICROSOFT-CDO-IMPORTANCE:1
CLASS:PUBLIC
END:VEVENT
END:VCALENDAR
