BEGIN:VCALENDAR
PRODID:-//kirchenweb.ch gmbh//veranstaltungsausgabe v2.0//DE
VERSION:2.0
METHOD:PUBLISH
BEGIN:VEVENT
DTSTART:20261210T140000Z
DTEND:20261210T150000Z
LOCATION:Kirche\, Schlüsselmattweg\, 8840 Einsiedeln
TRANSP:OPAQUE
SEQUENCE:0
UID:4672-veranstaltung@ref-einsiedeln.ch
DTSTAMP:20260409T114159Z
DESCRIPTION:Nach einem besinnlichen Teil wird ein feines\, warmes Essen
  serviert - nicht mit vollem Magen kommen!\n\nAnmeldung am besten mit dem
  Anmeldeformular bis Dienstag-Abend vor dem Anlass\noder bei Pfr. Urs
  Jäger oder im Sekretariat\n\nKontakt: Urs Jäger\n\nWeitere Infos:
  https://www.ref-einsiedeln.ch/veranstaltung/4672
SUMMARY:Weihnachtsfeier 60+ Anmeldung
PRIORITY:5
X-MICROSOFT-CDO-IMPORTANCE:1
CLASS:PUBLIC
END:VEVENT
END:VCALENDAR
