BEGIN:VCALENDAR
PRODID:-//kirchenweb.ch gmbh//veranstaltungsausgabe v2.0//DE
VERSION:2.0
METHOD:PUBLISH
BEGIN:VEVENT
DTSTART:20261213T161500Z
DTEND:20261213T171500Z
LOCATION:Kirche\, Schlüsselmattweg\, 8840 Einsiedeln
TRANSP:OPAQUE
SEQUENCE:0
UID:4674-veranstaltung@ref-einsiedeln.ch
DTSTAMP:20260401T120534Z
DESCRIPTION:3. Advent\nKinderweihnacht mit Krippenspiel & Adventsfenster\n
 \nKontakt: Pfr. Urs Jäger\n\nWeitere Infos:
  https://www.ref-einsiedeln.ch/veranstaltung/4674
SUMMARY:Kinderweihnachtsfeier
PRIORITY:5
X-MICROSOFT-CDO-IMPORTANCE:1
CLASS:PUBLIC
END:VEVENT
END:VCALENDAR
